BEGIN:VCALENDAR
VERSION:2.0
PRODID:-//The Vallican Whole Community Centre - ECPv6.15.20//NONSGML v1.0//EN
CALSCALE:GREGORIAN
METHOD:PUBLISH
X-WR-CALNAME:The Vallican Whole Community Centre
X-ORIGINAL-URL:https://vallicanwhole.com
X-WR-CALDESC:Events for The Vallican Whole Community Centre
REFRESH-INTERVAL;VALUE=DURATION:PT1H
X-Robots-Tag:noindex
X-PUBLISHED-TTL:PT1H
BEGIN:VTIMEZONE
TZID:UTC
BEGIN:STANDARD
TZOFFSETFROM:+0000
TZOFFSETTO:+0000
TZNAME:UTC
DTSTART:20220101T000000
END:STANDARD
END:VTIMEZONE
BEGIN:VEVENT
DTSTART;TZID=UTC:20231028T183000
DTEND;TZID=UTC:20231028T230000
DTSTAMP:20260421T232627
CREATED:20231012T204300Z
LAST-MODIFIED:20231012T204303Z
UID:5903-1698517800-1698534000@vallicanwhole.com
SUMMARY:Hallowe'en Family Dance Party!
DESCRIPTION:Join us at the Vallican Whole for a fun dance party for the whole family! \n\n\n\nMusic by DJ Bass Cat and Friends\, spooky movie in the basement\, snacks and drinks\, a lantern walk through the forest\, and plenty of fun. Costumes encouraged! \n\n\n\nWe are looking for more volunteers and artists – if you’d like to contribute a couple of hours to help out\, you get in for free.  Jobs include kitchen care\, door minding\, set-up/decor\, clean-up\, and more!  Email Marya at info@vallicanwhole.com for more info.
URL:https://vallicanwhole.com/event/halloween-family-dance-party/
LOCATION:Vallican Whole\, 3762 Little Slocan South Rd\, Winlaw\, British Columbia\, V0G 2J0\, Canada
ORGANIZER;CN="Vallican Whole Community":MAILTO:info@vallicanwhole.com
END:VEVENT
END:VCALENDAR