BEGIN:VCALENDAR
VERSION:2.0
PRODID:-//The Vallican Whole Community Centre - ECPv6.15.20//NONSGML v1.0//EN
CALSCALE:GREGORIAN
METHOD:PUBLISH
X-WR-CALNAME:The Vallican Whole Community Centre
X-ORIGINAL-URL:https://vallicanwhole.com
X-WR-CALDESC:Events for The Vallican Whole Community Centre
REFRESH-INTERVAL;VALUE=DURATION:PT1H
X-Robots-Tag:noindex
X-PUBLISHED-TTL:PT1H
BEGIN:VTIMEZONE
TZID:UTC
BEGIN:STANDARD
TZOFFSETFROM:+0000
TZOFFSETTO:+0000
TZNAME:UTC
DTSTART:20250101T000000
END:STANDARD
END:VTIMEZONE
BEGIN:VEVENT
DTSTART;TZID=UTC:20260308T140000
DTEND;TZID=UTC:20260308T170000
DTSTAMP:20260421T234510
CREATED:20260223T221820Z
LAST-MODIFIED:20260224T000200Z
UID:6298-1772978400-1772989200@vallicanwhole.com
SUMMARY:Art Party!
DESCRIPTION:The Vallican Whole Gallery Committee is hosting an ART PARTY with DJ N-Deep\, on Sunday March 8 from 2 to 5 pm. \n\n\n\n No art skills needed! Drawing and Collage opportunities to engage in\, or bring your own projects to work on in community. \n\n\n\nThe Gallery drawing & sculpture show will be open! \n\n\n\nPotluck refreshments. Donations appreciated.
URL:https://vallicanwhole.com/event/art-party/
LOCATION:Vallican Whole\, 3762 Little Slocan South Rd.\, Winlaw\, Bc\, V0G 0B2\, Canada
END:VEVENT
END:VCALENDAR