BEGIN:VCALENDAR
VERSION:2.0
PRODID:-//The Vallican Whole Community Centre - ECPv6.15.20//NONSGML v1.0//EN
CALSCALE:GREGORIAN
METHOD:PUBLISH
X-ORIGINAL-URL:https://vallicanwhole.com
X-WR-CALDESC:Events for The Vallican Whole Community Centre
REFRESH-INTERVAL;VALUE=DURATION:PT1H
X-Robots-Tag:noindex
X-PUBLISHED-TTL:PT1H
BEGIN:VTIMEZONE
TZID:UTC
BEGIN:STANDARD
TZOFFSETFROM:+0000
TZOFFSETTO:+0000
TZNAME:UTC
DTSTART:20240101T000000
END:STANDARD
END:VTIMEZONE
BEGIN:VEVENT
DTSTART;TZID=UTC:20251214T100000
DTEND;TZID=UTC:20251214T160000
DTSTAMP:20260421T191058
CREATED:20251202T074300Z
LAST-MODIFIED:20251202T074302Z
UID:6258-1765706400-1765728000@vallicanwhole.com
SUMMARY:Whole Holiday Market!
DESCRIPTION:Join us at the Vallican Whole for a Holiday Market\, featuring local artisan vendors\, great food and entertainment throughout the day.A wonderful opportunity to support local artists during the holiday season\, in the warm and beautiful Vallican Whole. \n\n\n\nOur raffle will be raising money for the Slocan Valley Food Cupboard. \n\n\n\nThank you to the CBT for sponsoring this event!
URL:https://vallicanwhole.com/event/whole-holiday-market/
LOCATION:Bc
END:VEVENT
BEGIN:VEVENT
DTSTART;TZID=UTC:20251220T140000
DTEND;TZID=UTC:20251220T170000
DTSTAMP:20260421T191058
CREATED:20251202T074516Z
LAST-MODIFIED:20251202T074518Z
UID:6261-1766239200-1766250000@vallicanwhole.com
SUMMARY:Vallican Whole Community Choir
DESCRIPTION:Holiday Concert & Singalong
URL:https://vallicanwhole.com/event/vallican-whole-community-choir-2/
LOCATION:Bc
END:VEVENT
END:VCALENDAR