BEGIN:VCALENDAR
VERSION:2.0
PRODID:-//The Vallican Whole Community Centre - ECPv6.15.20//NONSGML v1.0//EN
CALSCALE:GREGORIAN
METHOD:PUBLISH
X-ORIGINAL-URL:https://vallicanwhole.com
X-WR-CALDESC:Events for The Vallican Whole Community Centre
REFRESH-INTERVAL;VALUE=DURATION:PT1H
X-Robots-Tag:noindex
X-PUBLISHED-TTL:PT1H
BEGIN:VTIMEZONE
TZID:UTC
BEGIN:STANDARD
TZOFFSETFROM:+0000
TZOFFSETTO:+0000
TZNAME:UTC
DTSTART:20240101T000000
END:STANDARD
END:VTIMEZONE
BEGIN:VEVENT
DTSTART;TZID=UTC:20251108T190000
DTEND;TZID=UTC:20251108T210000
DTSTAMP:20260421T172341
CREATED:20251028T175906Z
LAST-MODIFIED:20251028T175907Z
UID:6239-1762628400-1762635600@vallicanwhole.com
SUMMARY:Blake Parker Roadshow
DESCRIPTION:Blake Parker was an extraordinary writer and performer that inspired many artists\, dancers\, writers\, musicians and performers and left an incredible legacy of creative work. He was a prolific writer and continuously engaged in new creative projects. This will be an evening to celebrate creativity and improvisation in mixed media: spoken word\, image\, and music. The evening will celebrate not just Blake’s work\, but also many of the people he collaborated with\, those he inspired and other upcoming performance poets and multi-media artists. \n\n\n\nMonica Carpendale will host the evening\, which will feature Laura Landsberg’s vocal work “Lines: Tracing an unconventional story through poetry and music”. \n\n\n\nFor this special performance\, Laura will be joined by two musical poets\, Paul Landsberg & Steven Parish (formerly members of the Three Poets with Blake Parker)\, to share an intimate rendition of her Lines project. \n\n\n\nThe piece explores a child’s experience of the sixties and seventies with so many lost and wandering adults. \n\n\n\nReadings\, music\, and videos will round out the evening. \n\n\n\nThe Vallican Art Gallery will be open with an exhibit of photography by Margaret Parker\, Jeremy Addington and Susan Faye\, and and sculptures by Veronica Verkley. There will also be a display of photographs of some of Blake’s performances and Fred Rosenberg’s moving documentation of Blake’s last year. \n\n\n\nPerformance starts at 7 pm. Cost $10 to $20 (sliding scale)
URL:https://vallicanwhole.com/event/blake-parker-roadshow/
LOCATION:Vallican Whole\, 3762 Little Slocan South Rd.\, Winlaw\, Bc\, V0G 0B2\, Canada
END:VEVENT
BEGIN:VEVENT
DTSTART;TZID=UTC:20251123T150000
DTEND;TZID=UTC:20251123T170000
DTSTAMP:20260421T172341
CREATED:20251117T180721Z
LAST-MODIFIED:20251117T180722Z
UID:6248-1763910000-1763917200@vallicanwhole.com
SUMMARY:Shifting Perspectives - Artists Open House
DESCRIPTION:On Sunday November 23 the Vallican Whole Art Gallery will host an Open House between 3 and 5 PM. \n\n\n\nWe invite people to come and view the marvellous show “Shifting Perspectives’\, featuring the photographs of Margaret Parker\, Susan Faye\, and Jeremy Addington – fantastic light-paintings\, intimate landscapes\, and vivid storytelling moments – and also showcasing eloquent sculptures by Veronica Verkley\, which fill the space with inter-species conversations. \n\n\n\nCome and be inspired\, have some snacks\, and imagine how you might be involved as participants and/or volunteers in future shows and events. All are welcome!
URL:https://vallicanwhole.com/event/shifting-perspectives-artists-open-house/
LOCATION:The Vallican Whole
ORGANIZER;CN="The Vallican Whole":MAILTO:info@vallicanwhole.com
END:VEVENT
BEGIN:VEVENT
DTSTART;TZID=UTC:20251129T163000
DTEND;TZID=UTC:20251129T230000
DTSTAMP:20260421T172341
CREATED:20251117T181828Z
LAST-MODIFIED:20251117T181830Z
UID:6254-1764433800-1764457200@vallicanwhole.com
SUMMARY:The Blue Moon Soiree
DESCRIPTION:The Whole School is rolling out the red carpet for its 27th\, legendary\, Blue Moon Soirée at the Vallican Whole Community Centre on November 29th.THE LATIN LOVERS will be captivating us with their extremely danceable music and DJ Fatty Cakes will be spinning the soundtrack to the evening.Indulge in a scrumptious dinner paired with decadent desserts.Let your senses tingle with excitement as you explore the vast array of treasures in our colossal silent auction.Try your luck with a 50/50 drawEnter a raffle for four tickets to Revelstoke Mountain Resort.Little ones will find their haven in the delightful kid zone\, while the dance floor beckons to all with its siren call.Gather your nearest and dearest\, for this will be an unforgettable night.____________________________________________________________ \n\n\n\n ENTRY:   TICKETS SOLD AT THE DOOR$20 – Adults$5 – Youth (ages 6-12)Free – Little Dreamers (5 and under) \n\n\n\n DINNER:$15 – Adult Plate$10 – Youth Plate \n\n\n\nSpecial Family Package: $75 for a family of 4\, plus $10 for each additional child (includes entry and dinner). \n\n\n\n SILENT AUCTION TREASURES: \n\n\n\nSki Passes \n\n\n\nHot Springs Passes \n\n\n\nChildren’s Books & Toys \n\n\n\nRestaurant Gift Certificates \n\n\n\nClothing Gift Certificates \n\n\n\nPottery \n\n\n\nAnd a plethora of other surprises…
URL:https://vallicanwhole.com/event/the-blue-moon-soiree/
LOCATION:The Vallican Whole
END:VEVENT
END:VCALENDAR