BEGIN:VCALENDAR
VERSION:2.0
PRODID:-//The Vallican Whole Community Centre - ECPv6.15.20//NONSGML v1.0//EN
CALSCALE:GREGORIAN
METHOD:PUBLISH
X-WR-CALNAME:The Vallican Whole Community Centre
X-ORIGINAL-URL:https://vallicanwhole.com
X-WR-CALDESC:Events for The Vallican Whole Community Centre
REFRESH-INTERVAL;VALUE=DURATION:PT1H
X-Robots-Tag:noindex
X-PUBLISHED-TTL:PT1H
BEGIN:VTIMEZONE
TZID:UTC
BEGIN:STANDARD
TZOFFSETFROM:+0000
TZOFFSETTO:+0000
TZNAME:UTC
DTSTART:20240101T000000
END:STANDARD
END:VTIMEZONE
BEGIN:VEVENT
DTSTART;TZID=UTC:20250606T190000
DTEND;TZID=UTC:20250606T213000
DTSTAMP:20260421T093802
CREATED:20250526T194255Z
LAST-MODIFIED:20250606T054145Z
UID:6169-1749236400-1749245400@vallicanwhole.com
SUMMARY:The Mosquitos - A "Rustic Preview"
DESCRIPTION:SOLD OUT – sorry!  No tickets at the door!\n\n\n\nYou can still get tickets to the Capitol Theatre shows next week though!   \n\n\n\nJoin us for a “rustic preview” of The Mosquitos\, a new play by Slocan Valley playwright Marya Folinsbee\, produced by Material Theatre. \n\n\n\nLimited ticket\, $25\, available for purchase at Rambling Rose Boutique in Winlaw\, or reserve by email\, info (at) vallicanwhole (dot) com. \n\n\n\nDoors at 7:00\, show at 7:30. The show is about 1.5 hours long with one intermission.  There will be a cash concession at the show! \n\n\n\nWhat’s it about? \n\n\n\n“Things are changing rather quickly. We no longer share a reality”. \n\n\n\nA group of old friends get together for a dinner party\, while rumours of an unimaginable change swirl around them. \n\n\n\nHow do we face total transformation? \n\n\n\nAn absurd comedy of manners with an existential heart\, The Mosquitos is original new theatre written and directed by Slocan Valley playwright Marya Folinsbee. With equal parts humour and pathos\, The Mosquitos reconsiders our place in the ecosystem\, asking:How do we live in the world together when we have fundamentally different versions of reality ? \n\n\n\nA meditation on politics\, relationships\, (mis)information and the role of art in creating meaning\, The Mosquitos is inspired by absurdist classics like Eugene Ionesco’s Rhinoceros and Samuel Beckett’s Happy Days (and by life in these times). \n\n\n\n\n\n\n\nThis world premiere features a talented ensemble of local performers and artists: \n\n\n\nWritten and Directed by Marya Folinsbee \n\n\n\nFeaturing Performances by:Emily RyanKozmo SammartinoRoger CarterPatricia McLaughlinKarmelle Spence-SingLindsay ClagueJames ShawAaron PickettMike Funergy \n\n\n\nSound Designer Jeremy SauerProjection Designer Brian LyeMask & Puppet Designer Elaine WeryshkoCostumer Kyla HurstStage Manager Martina AvisProduction Designer Marya Folinsbee \n\n\n\nRecipient of the 2025 Judy Wapp Artists FellowshipCreation support from The Columbia Kootenay Cultural Alliance.Production support from The BC Arts Council.We acknowledge the support of the Canada Council for the Arts.
URL:https://vallicanwhole.com/event/the-mosquitos-a-rustic-preview/
LOCATION:Bc
ORGANIZER;CN="The Vallican Whole":MAILTO:info@vallicanwhole.com
END:VEVENT
BEGIN:VEVENT
DTSTART;TZID=UTC:20250623T183000
DTEND;TZID=UTC:20250623T200000
DTSTAMP:20260421T093802
CREATED:20250618T211833Z
LAST-MODIFIED:20250618T211835Z
UID:6180-1750703400-1750708800@vallicanwhole.com
SUMMARY:RARTS AGM
DESCRIPTION:Join the RARTS Board for our 2025 AGM. \n\n\n\nSome snacks to enjoy\, the lovely board to chat with\, regular AGM business.Always welcoming new volunteer energy!
URL:https://vallicanwhole.com/event/rarts-agm/
LOCATION:Vallican Whole\, 3762 Little Slocan South Rd\, Winlaw\, British Columbia\, V0G 2J0\, Canada
END:VEVENT
BEGIN:VEVENT
DTSTART;TZID=UTC:20250627T000000
DTEND;TZID=UTC:20250630T235959
DTSTAMP:20260421T093802
CREATED:20250526T193215Z
LAST-MODIFIED:20250526T193216Z
UID:6167-1750982400-1751327999@vallicanwhole.com
SUMMARY:Kootenay Herb Conference
DESCRIPTION:🌿 2025 Kootenay Herb Gathering is Coming!  \n\n\n\nMark your calendar for June 27–30\, 2025\, and join us at the Vallican Whole in the beautiful Slocan Valley for a joyful weekend of herbal learning\, nature connection\, and community celebration! Whether you’re a clinical herbalist\, a kitchen witch\, or just plant-curious\, this gathering is for you.  \n\n\n\nExpect in-depth workshops with expert teachers\, guided herb walks through a temperate rainforest\, and experiential learning in a welcoming\, heart-centered space. Enjoy fresh local food\, herbal elixirs\, and a lively Saturday night dance party! As a community-run\, non-profit event\, every ticket helps support herbal and environmental initiatives across Canada.  \n\n\n\n💚 Come root\, rest\, and renew with us.  \n\n\n\n🎟 Tickets on sale now at herbconference.com
URL:https://vallicanwhole.com/event/kootenay-herb-conference/
LOCATION:Vallican Whole\, 3762 Little Slocan South Rd.\, Winlaw\, Bc\, V0G 0B2\, Canada
END:VEVENT
END:VCALENDAR