BEGIN:VCALENDAR
VERSION:2.0
PRODID:-//The Vallican Whole Community Centre - ECPv6.15.20//NONSGML v1.0//EN
CALSCALE:GREGORIAN
METHOD:PUBLISH
X-ORIGINAL-URL:https://vallicanwhole.com
X-WR-CALDESC:Events for The Vallican Whole Community Centre
REFRESH-INTERVAL;VALUE=DURATION:PT1H
X-Robots-Tag:noindex
X-PUBLISHED-TTL:PT1H
BEGIN:VTIMEZONE
TZID:UTC
BEGIN:STANDARD
TZOFFSETFROM:+0000
TZOFFSETTO:+0000
TZNAME:UTC
DTSTART:20240101T000000
END:STANDARD
END:VTIMEZONE
BEGIN:VEVENT
DTSTART;TZID=UTC:20250503T190000
DTEND;TZID=UTC:20250503T210000
DTSTAMP:20260421T111654
CREATED:20250319T204624Z
LAST-MODIFIED:20250319T204626Z
UID:6128-1746298800-1746306000@vallicanwhole.com
SUMMARY:The Red Thread (And Other Mingled Yarns)
DESCRIPTION:A One Woman Show\, written and Performed by Ellie Reynolds \n\n\n\n\n\n\n\nEllie’s third solo show picks up a red thread and unspools it\, while asking the big questions: are the events of our lives somehow inevitable? Are we fated or doomed to love one person\, and what is the Red Thread of Destiny that ties us to one another\, and to our own past? \n\n\n\nThree mysterious yarn-spinning goddesses of Fate aid Ellie through the labyrinth\, as she wrestles with her lot in (increasingly middle) life\, reminding us all how telling stories can help us understand how the threads of our lives can stretch\, mingle and twist to form webs of connection across time and space. \n\n\n\nMoving between the worlds of Greek Myth\, to Shakespeare\, to North London and Denver Colorado in the eighties\, through to the present moment in the Kootenays – The Red Thread is an earnest\, yet playful exploration of the role of Fate in our lives and the yarns we spin to try and make sense of it all. \n\n\n\nFind out more:  Facebook.com/elliesolotheatre \n\n\n\nOr email ellie_simons@hotmail.com
URL:https://vallicanwhole.com/event/the-red-thread-and-other-mingled-yarns/
LOCATION:Bc
ORGANIZER;CN="Vallican Whole Community":MAILTO:info@vallicanwhole.com
END:VEVENT
BEGIN:VEVENT
DTSTART;TZID=UTC:20250504T110000
DTEND;TZID=UTC:20250504T140000
DTSTAMP:20260421T111654
CREATED:20250414T203927Z
LAST-MODIFIED:20250414T203928Z
UID:6149-1746356400-1746367200@vallicanwhole.com
SUMMARY:Waking Up The Park
DESCRIPTION:The Vallican Whole Art Gallery and Sculpture Park Committee is planning a ‘Wake Up the Park’ Spring clean up on Sunday May 4\, between 11am and 2pm. Let’s dust off the existing sculptures and make way for some new ones! \n\n\n\nThe Sculpture Park\, on the grounds of the Vallican Whole Community Centre\, has been sleeping for a few years and now it’s time to wake the beauty up. Bring your friends\, some gloves\, a rake or other yard cleaning tools\, maybe a snack to share\, and we’ll give you an opportunity to be part of an uplifting public project\, making a permanent home for sculpture and land art in our community. \n\n\n\n“Art washes away from the soul the dust of everyday life” – Pablo Picasso
URL:https://vallicanwhole.com/event/waking-up-the-park/
LOCATION:Vallican Whole\, 3762 Little Slocan South Rd.\, Winlaw\, Bc\, V0G 0B2\, Canada
END:VEVENT
BEGIN:VEVENT
DTSTART;TZID=UTC:20250524T190000
DTEND;TZID=UTC:20250524T220000
DTSTAMP:20260421T111654
CREATED:20250418T210803Z
LAST-MODIFIED:20250418T210804Z
UID:6155-1748113200-1748124000@vallicanwhole.com
SUMMARY:Electrojazziness Improvised Concert                                                       & Community Jam
DESCRIPTION:On Saturday\, March May 24th\, join us at the Vallican Whole in the Slocan Valley for a beautiful evening of live improvised music! \n\n\n\nThe night’s journey will feature two distinct improvised jams: 1) a jazz x electronica x hip hop fusion duo\, and 2) an open community jam\, maybe featuring you? \n\n\n\n\nClick here to buy tickets! \n\n\n\n\nOur headliners are Electrojazziness\, a 100% improvised duo featuring the amazing Montreal-based jazz pianist maestro Alex McNally and the Nelson-based live-music-production-and-freestyling wizard thisissami. These two life-long improvisers come from completely different music backgrounds\, yet their journeys intertwined last summer with the development of this jazz\, electronic\, and hip hop fusion project in Montreal parks. In 2024\, Electrojazziness consisted of a series of battery-powered bike-transported free public concerts (see image at the top). In 2025\, Alex is coming to the Kootenays\, where Electrojazziness will have a 2-week residency at Flow State Studio followed by a 15-performance tour. We invite you to join us on a magical\, eclectic\, groovy improvised journey with us at the beautiful Vallican Whole. \n\n\n\nHere is an eclectic downtempo journey from an Electrojazziness public park performance. \n\n\n\nAnd here is a fun multilingual freestyle with a guest bassist from that same concert. \n\n\n\nThe evening will open up with a Community Jam! Are you an improviser? Do you want to jam with a bunch of other awesome musicians and vocalists? Or do you want to just come dance\, groove\, or even just sit and listen to epic improvisations? Come help us make this night memorable. 🙂 \n\n\n\nDoors open at 7:00pm. Show starts at 7:30pm. \n\n\n\nTo join community jam\, please arrive by 7:10pm at the latest. Free entry for improvisers who arrive by then. \n\n\n\n==== \n\n\n\nThis family friendly show is brought to you by the Rural Alternatives Research and Training Society (the fantastic organization that runs the Vallican Whole) in collaboration with Inventor Live\, an events production company that showcases interactive arts & live electronic music. You can read about past events on the Georgia Strait.
URL:https://vallicanwhole.com/event/electrojazziness-improvised-concert-community-jam/
LOCATION:Bc
ORGANIZER;CN="The Vallican Whole":MAILTO:info@vallicanwhole.com
END:VEVENT
END:VCALENDAR