BEGIN:VCALENDAR
VERSION:2.0
PRODID:-//The Vallican Whole Community Centre - ECPv6.15.20//NONSGML v1.0//EN
CALSCALE:GREGORIAN
METHOD:PUBLISH
X-WR-CALNAME:The Vallican Whole Community Centre
X-ORIGINAL-URL:https://vallicanwhole.com
X-WR-CALDESC:Events for The Vallican Whole Community Centre
REFRESH-INTERVAL;VALUE=DURATION:PT1H
X-Robots-Tag:noindex
X-PUBLISHED-TTL:PT1H
BEGIN:VTIMEZONE
TZID:UTC
BEGIN:STANDARD
TZOFFSETFROM:+0000
TZOFFSETTO:+0000
TZNAME:UTC
DTSTART:20240101T000000
END:STANDARD
END:VTIMEZONE
BEGIN:VEVENT
DTSTART;TZID=UTC:20250315T133000
DTEND;TZID=UTC:20250315T160000
DTSTAMP:20260421T142026
CREATED:20250310T182528Z
LAST-MODIFIED:20250310T182531Z
UID:6116-1742045400-1742054400@vallicanwhole.com
SUMMARY:Buttons & Pockets - Up Close for Kids!
DESCRIPTION:Buttons & Pockets is a kid-friendly clown show about the fabric of reality and the nature of the Universe\, created by Winlaw-based Material Theatre. \n\n\n\nThis show debuted at the Edmonton International Fringe Festival in the summer of 2024… now it’s at the Whole for one day only! An afternoon of physics puns\, silly science\, and sewing lessons\, for an all-age audience! \n\n\n\nThere will be pizza\, cake and drinks for sale at the concession.
URL:https://vallicanwhole.com/event/buttons-pockets-up-close-for-kids/
LOCATION:Bc
ORGANIZER;CN="The Vallican Whole":MAILTO:info@vallicanwhole.com
END:VEVENT
BEGIN:VEVENT
DTSTART;TZID=UTC:20250329T133000
DTEND;TZID=UTC:20250329T190000
DTSTAMP:20260421T142026
CREATED:20250319T204307Z
LAST-MODIFIED:20250319T204309Z
UID:6125-1743255000-1743274800@vallicanwhole.com
SUMMARY:Ru Rose - Revival.  Album Release & Art Show
DESCRIPTION:Doors Open 1:30pm \n\n\n\nArtist Talk/Show  2:00pm – 3:30pm \n\n\n\nLive-Music Performance  5:00 – 7:00pm \n\n\n\nDoor Price $10-15  \n\n\n\n*Food\, Tea/Coffee Available \n\n\n\nThe project known as ‘Revival’ is a creative outpouring by folk artist Ru Rose. Revival showcases a deeply sincere full length conceptual debut album of 12 original sacred folk songs recorded Live-Off-The-Forest-Floor in the mountains of the unceded and ancestral territories of the Sinixt and Ktunaxa nations\, also known as the Kootenays of British Columbia. Interwoven with the songs of the album is a series of 12 intricate paintings created with hand-made inks\, dyes and paints.  \n\n\n\nThis event\, made possible with the support of The Columbia Basin Trust and the CKCA will begin with an Art Show/Talk showcasing the 12 piece series of original paintings by Ru Rose. Following the Art Show will be an intimate\, candle lit Live-Performance of the Album performed by Ru Rose and accompanied by local musicians such as Kai Cabodyna\, Indiana Cabodyna\, The Rainbow Hippos\, and Martine DenBok. \n\n\n\nAlbums\, Original Artwork and high quality Art Prints will be available at this event.  \n\n\n\nFor more information visit www.rurose.earth
URL:https://vallicanwhole.com/event/ru-rose-revival-album-release-art-show/
LOCATION:Vallican Whole\, 3762 Little Slocan South Rd.\, Winlaw\, Bc\, V0G 0B2\, Canada
END:VEVENT
END:VCALENDAR