BEGIN:VCALENDAR
VERSION:2.0
PRODID:-//The Vallican Whole Community Centre - ECPv6.15.20//NONSGML v1.0//EN
CALSCALE:GREGORIAN
METHOD:PUBLISH
X-WR-CALNAME:The Vallican Whole Community Centre
X-ORIGINAL-URL:https://vallicanwhole.com
X-WR-CALDESC:Events for The Vallican Whole Community Centre
REFRESH-INTERVAL;VALUE=DURATION:PT1H
X-Robots-Tag:noindex
X-PUBLISHED-TTL:PT1H
BEGIN:VTIMEZONE
TZID:UTC
BEGIN:STANDARD
TZOFFSETFROM:+0000
TZOFFSETTO:+0000
TZNAME:UTC
DTSTART:20240101T000000
END:STANDARD
END:VTIMEZONE
BEGIN:VEVENT
DTSTART;TZID=UTC:20250209T150000
DTEND;TZID=UTC:20250209T180000
DTSTAMP:20260421T160202
CREATED:20250108T190420Z
LAST-MODIFIED:20250108T190420Z
UID:6095-1739113200-1739124000@vallicanwhole.com
SUMMARY:Artist Reception and Talk
DESCRIPTION:The Vallican Whole Art Gallery \n\n\n\nis hosting an inaugural art exhibition of Kootenay art legends Alf Crossley\, Peter Velisek\, and Rabi’a. \n\n\n\nThe exhibit will be up from Saturday January 18th to February 25th\, and the gallery will be open during our Winter Locavore’s Feast\, and our Up Close & Intimate Performances during that time.  On Sunday February 9th\, there will be a reception and talk with the featured artists Alf Crossley\, Peter Velisek\, and Rabi’a. \n\n\n\nThe Gallery Project is being curated in collaboration with KATI.
URL:https://vallicanwhole.com/event/artist-reception-and-talk/
LOCATION:Vallican Whole\, 3762 Little Slocan South Rd.\, Winlaw\, Bc\, V0G 0B2\, Canada
END:VEVENT
BEGIN:VEVENT
DTSTART;TZID=UTC:20250214T190000
DTEND;TZID=UTC:20250214T220000
DTSTAMP:20260421T160202
CREATED:20250108T190750Z
LAST-MODIFIED:20250208T211704Z
UID:6097-1739559600-1739570400@vallicanwhole.com
SUMMARY:A Valentine's Big Band Dance
DESCRIPTION:Featuring the Playmor Jazz Ensemble!\n\n\n\n\n\n\n\n\n\nThe second night in our Up Close & Intimate Series features a Valentine’s Big Band Dance\, with a live performance from the Playmor Jazz Ensemble. \n\n\n\nDoors open at 7:00 pm\, with music starting at 7:30.A 19-piece jazz/swing band composed of Kootenay-based performers\, Playmor Jazz promises three sets of danceable jazz and swing music. This will be a playful and romantic evening of great tunes. There will be a cash bar and refreshments including cake and pizza. \n\n\n\nTickets are available at Rambling Rose’s in Winlaw\, or reservable by email to info@vallicanwhole.com.
URL:https://vallicanwhole.com/event/a-valentines-big-band-dance/
LOCATION:Bc
ORGANIZER;CN="Vallican Whole Community":MAILTO:info@vallicanwhole.com
END:VEVENT
END:VCALENDAR