BEGIN:VCALENDAR
VERSION:2.0
PRODID:-//The Vallican Whole Community Centre - ECPv6.15.20//NONSGML v1.0//EN
CALSCALE:GREGORIAN
METHOD:PUBLISH
X-WR-CALNAME:The Vallican Whole Community Centre
X-ORIGINAL-URL:https://vallicanwhole.com
X-WR-CALDESC:Events for The Vallican Whole Community Centre
REFRESH-INTERVAL;VALUE=DURATION:PT1H
X-Robots-Tag:noindex
X-PUBLISHED-TTL:PT1H
BEGIN:VTIMEZONE
TZID:UTC
BEGIN:STANDARD
TZOFFSETFROM:+0000
TZOFFSETTO:+0000
TZNAME:UTC
DTSTART:20230101T000000
END:STANDARD
END:VTIMEZONE
BEGIN:VEVENT
DTSTART;TZID=UTC:20241130T170000
DTEND;TZID=UTC:20241130T220000
DTSTAMP:20260421T205602
CREATED:20241126T045133Z
LAST-MODIFIED:20241126T045133Z
UID:6061-1732986000-1733004000@vallicanwhole.com
SUMMARY:A Blue Moon Soiree by the Whole School
DESCRIPTION:The Whole School is excited to be holding their 26th Annual “BLUE MOON SOIREE” on Saturday\, November 30th\, from 5pm to 10pm at the Vallican Whole Community Centre\, as a school fundraiser. \n\n\n\nThis event offers a mouth-watering\, meal with baked goods. Come enjoy local performers\, live music\, a Holiday Gift Silent Auction\, a 50/50 draw\, and a concession of delicious\, decadent treats. \n\n\n\n~ Doors open @ 5pm~ The Chantarelles Youth Choir @ 5-5:30pm~ Dinner @ 5:30-7pm~ THAT REGGAE SHOW @ 7-8:30pm~ Speeches & 50/50 Draw @ 8:30-8:45pm(Silent Auction closed at 8:45)~ DJ @ 8:45-10pm \n\n\n\nWe welcome one and all to support the Whole School students and families at our fantastic fundraising extravaganza! \n\n\n\nPlease bring CASH for entry and dinner as well as the concession. \n\n\n\nYou can pay for your silent auction item with CASH or your phone to E-transfer\, there will be Wi-Fi. We will also be accepting credit card. \n\n\n\nAll silent auction items need to be paid for when the silent auction closes at 8:45pm. If you cannot pay\, the items will be held at the Whole School until you can pay. They will be held for one month only. \n\n\n\nSILENT AUCTION ITEMS: (Here are just a few of our silent auction items)~2 White Water Ski Passes~1/2 Cord of Larch Wood~Pan flute~Native Flute~Custom Charcuterie Board~5 Class Card Yoga at Bindu~Drum Lesson~Guitar Lesson~Hot Spring Passes~Copious amounts of gift certificates from our wonderful community businesses
URL:https://vallicanwhole.com/event/a-blue-moon-soiree-by-the-whole-school/
LOCATION:Bc
END:VEVENT
END:VCALENDAR