BEGIN:VCALENDAR
VERSION:2.0
PRODID:-//The Vallican Whole Community Centre - ECPv6.15.20//NONSGML v1.0//EN
CALSCALE:GREGORIAN
METHOD:PUBLISH
X-WR-CALNAME:The Vallican Whole Community Centre
X-ORIGINAL-URL:https://vallicanwhole.com
X-WR-CALDESC:Events for The Vallican Whole Community Centre
REFRESH-INTERVAL;VALUE=DURATION:PT1H
X-Robots-Tag:noindex
X-PUBLISHED-TTL:PT1H
BEGIN:VTIMEZONE
TZID:UTC
BEGIN:STANDARD
TZOFFSETFROM:+0000
TZOFFSETTO:+0000
TZNAME:UTC
DTSTART:20190101T000000
END:STANDARD
END:VTIMEZONE
BEGIN:VEVENT
DTSTART;TZID=UTC:20200125T180000
DTEND;TZID=UTC:20200126T020000
DTSTAMP:20260419T222933
CREATED:20200110T053244Z
LAST-MODIFIED:20200110T053244Z
UID:203-1579975200-1580004000@vallicanwhole.com
SUMMARY:The Light of Belonging Constellations Workshop
DESCRIPTION:Join us for a transformational walk of remembering ourselves into the delight of belonging to all we are in relation to. Through an embodied experiential process we will use relational constellations to work with disconnections from lineage\, land\, stories\, and the greater web of life\, bringing in awareness and healing. This will include meditation\, embodiment practices\, ceremony and process work. Constellations work is a space to bring personal issues\, family and community issues\, as well as for healing of the earth and the collective. \nCost~ $120\nlocation: Vallican Whole Community Center https://vallicanwhole.com/\nto register PM me or email~
URL:https://vallicanwhole.com/event/the-light-of-belonging-constellations-workshop/
LOCATION:Vallican Whole\, 3762 Little Slocan South Rd.\, Winlaw\, Bc\, V0G 0B2\, Canada
ORGANIZER;CN="Courtney Wren-Mabbutt Counselling":MAILTO:tendingthefield@gmail.com
END:VEVENT
BEGIN:VEVENT
DTSTART;TZID=UTC:20200124T020000
DTEND;TZID=UTC:20200124T043000
DTSTAMP:20260419T222933
CREATED:20200110T052655Z
LAST-MODIFIED:20200110T052655Z
UID:200-1579831200-1579840200@vallicanwhole.com
SUMMARY:Valley Gems Auditions for Romeo & Juliet
DESCRIPTION:Valley Gems Community Theatre will be producing Romeo & Juliet in May\, 2020.\nCommunity members are invited to audition for the production on Thursday\, January 23rd at the Vallican Whole. \nTime Commitment: 1-2 rehearsal/week (depending on your part) from February to May 2020. Tech/production week May 3rd – 11th 2020\, with ~ four performances.\nRehearsals on Thursdays\, and possibly Mondays (to be confirmed)\, from 6-8:30PM. \n** Actors aged 14+ unless accompanied by an adult willing to act in the show. ** \nPeople wishing to audition for the roles of Juliet\, Nurse\, Tybalt and Mercutio\, please bring a memorized 10-16 line monologue from a Shakespeare play.  \nTo learn more\, or to volunteer for stage crew\, please contact martina.avis@gmail.com\, or come out on January 23rd.
URL:https://vallicanwhole.com/event/valley-gems-auditions-for-romeo-juliet/
LOCATION:Vallican Whole\, 3762 Little Slocan South Rd.\, Winlaw\, Bc\, V0G 0B2\, Canada
END:VEVENT
BEGIN:VEVENT
DTSTART;TZID=UTC:20200119T030000
DTEND;TZID=UTC:20200119T053000
DTSTAMP:20260419T222933
CREATED:20200104T011337Z
LAST-MODIFIED:20200104T013501Z
UID:183-1579402800-1579411800@vallicanwhole.com
SUMMARY:Unscriptured
DESCRIPTION:The Vallican Whole is excited to welcome Vancouver-based master performer\, improviser & magician Travis Bernhardt to the Whole to perform “Unscriptured” – an improvised church service from a religion made up on the spot! \nDoors open at 7:00PM for a 7:30 show.  Tickets are $20\, and can be purchased online here\, or at the door. \nClick here to watch some highlights from an Unscriptured show. 
URL:https://vallicanwhole.com/event/unscriptured/
LOCATION:Vallican Whole\, 3762 Little Slocan South Rd.\, Winlaw\, Bc\, V0G 0B2\, Canada
ORGANIZER;CN="Vallican Whole Community":MAILTO:info@vallicanwhole.com
END:VEVENT
BEGIN:VEVENT
DTSTART;TZID=UTC:20200110T173000
DTEND;TZID=UTC:20200110T220000
DTSTAMP:20260419T222933
CREATED:20200102T095813Z
LAST-MODIFIED:20200110T053749Z
UID:162-1578677400-1578693600@vallicanwhole.com
SUMMARY:January Story Games!
DESCRIPTION:Hosted by local game-creator Avery Alder\, Story Games is a night of fun & community. \nCome together and create stories through play. Explore strange possibilities as a new character. Laugh together! \nRoleplaying games are a form of collaborative\, creative play. They use rules and structure to make telling a story together less scary. Every game works a little bit differently – some take us into light-hearted comedy\, while others give rise to serious\, transformative drama. \nThis is a monthly event! We’ll offer a variety of game options\, and encourage you to bring something to run if you’re a seasoned player. \nOur dinner this time will be a childhood classic – sloppy joe’s. We’ll have two versions: beef/pork and lentil/barley. Let me know if you’re gluten-free – I’ll pick up a small number of gluten-free buns. \nFOOD AND CHILDCARE \nThis is a beginner-friendly event for ages 14 and up. It takes place at the Vallican Whole (3762 Little Slocan South Rd). Entry is by donation (suggested $5-10). Dinner is included\, with vegan & gluten-free options. Let us know your dietary restrictions! The evening is hosted by Avery (Avery Alder) – feel free to message her if you have any questions. \nChildcare provided by Milo (Alea Milo). After dinner\, Milo will take the kids downstairs to play\, read books\, and hang out. Your kids will be in good hands nearby\, while you get to focus on creative collaboration! \nYou can find our code of conduct here: https://docs.google.com/document/d/1mtUR7h5njbpvltnISuHWZnpcGmnlWB5h3h1oLVvY-S0 \nSCHEDULE \n5:30 to 6:00 – We eat together\, and a brief orientation is given for new folks. \n6:00 to 9:00 – People break into small groups\, and play a roleplaying game together. (You need to arrive before six in order to play something!) \n9:00 to 9:30 – There is time to debrief\, tidy up\, and say goodbye to one another.
URL:https://vallicanwhole.com/event/january-story-games/
END:VEVENT
END:VCALENDAR