BEGIN:VCALENDAR
VERSION:2.0
PRODID:-//The Vallican Whole Community Centre - ECPv6.15.20//NONSGML v1.0//EN
CALSCALE:GREGORIAN
METHOD:PUBLISH
X-ORIGINAL-URL:https://vallicanwhole.com
X-WR-CALDESC:Events for The Vallican Whole Community Centre
REFRESH-INTERVAL;VALUE=DURATION:PT1H
X-Robots-Tag:noindex
X-PUBLISHED-TTL:PT1H
BEGIN:VTIMEZONE
TZID:UTC
BEGIN:STANDARD
TZOFFSETFROM:+0000
TZOFFSETTO:+0000
TZNAME:UTC
DTSTART:20250101T000000
END:STANDARD
END:VTIMEZONE
BEGIN:VEVENT
DTSTART;TZID=UTC:20260124T190000
DTEND;TZID=UTC:20260124T213000
DTSTAMP:20260421T221116
CREATED:20260102T223046Z
LAST-MODIFIED:20260102T223049Z
UID:6268-1769281200-1769290200@vallicanwhole.com
SUMMARY:Stupid F***ing  Bird - A Staged Reading
DESCRIPTION:The Valley Gems presents an evening of reader’s theatre\, part of the 2026 Up Close & Intimate Series.   Local thespians will share excerpts from Anton Chekhov’s beloved play\, “The Seagull” followed by a cheeky and irreverent modern adaptation\, “Stupid Fucking Bird” by Aaron Posner. \n\n\n\nJoin us for this experience of ‘poor theatre’ where the simplicity of the spoken word and imagination invites us into the world of the play.  Adult content\, not suitable for children! \n\n\n\nDoors at 6:30 for a 7:00PM show. There will be one intermission\, with a bar and concession open. The Whole Gallery will also be open with a new exhibit. \n\n\n\nTickets at the door\, $20 each\, $10 for seniors/students/low-income community members. Volunteers get in for free! \n\n\n\nFor more information visit www.vallicanwhole.com 
URL:https://vallicanwhole.com/event/stupid-fing-bird-a-staged-reading/
LOCATION:Vallican Whole\, 3762 Little Slocan South Rd.\, Winlaw\, Bc\, V0G 0B2\, Canada
END:VEVENT
END:VCALENDAR