BEGIN:VCALENDAR
VERSION:2.0
PRODID:-//The Vallican Whole Community Centre - ECPv6.15.20//NONSGML v1.0//EN
CALSCALE:GREGORIAN
METHOD:PUBLISH
X-ORIGINAL-URL:https://vallicanwhole.com
X-WR-CALDESC:Events for The Vallican Whole Community Centre
REFRESH-INTERVAL;VALUE=DURATION:PT1H
X-Robots-Tag:noindex
X-PUBLISHED-TTL:PT1H
BEGIN:VTIMEZONE
TZID:UTC
BEGIN:STANDARD
TZOFFSETFROM:+0000
TZOFFSETTO:+0000
TZNAME:UTC
DTSTART:20240101T000000
END:STANDARD
END:VTIMEZONE
BEGIN:VEVENT
DTSTART;TZID=UTC:20251025T180000
DTEND;TZID=UTC:20251025T230000
DTSTAMP:20260421T172041
CREATED:20251007T193840Z
LAST-MODIFIED:20251007T193842Z
UID:6230-1761415200-1761433200@vallicanwhole.com
SUMMARY:Hallowe'en Family Dance Party
DESCRIPTION:The Third Annual Hallowe’en Family Dance Party is back at the Vallican Whole\, on Saturday October 25th. \n\n\n\nFamily-friendly dance floor\, bonfire\, cash bar\, concession\, dinner for sale\, and fun spooky magic throughout the land at the Whole.  Costumes heartily encouraged! \n\n\n\nVolunteers needed – you & your family get in free! \n\n\n\nDoors at 6pm
URL:https://vallicanwhole.com/event/halloween-family-dance-party-3/
LOCATION:Bc
END:VEVENT
END:VCALENDAR