BEGIN:VCALENDAR
VERSION:2.0
PRODID:-//The Vallican Whole Community Centre - ECPv6.15.20//NONSGML v1.0//EN
CALSCALE:GREGORIAN
METHOD:PUBLISH
X-WR-CALNAME:The Vallican Whole Community Centre
X-ORIGINAL-URL:https://vallicanwhole.com
X-WR-CALDESC:Events for The Vallican Whole Community Centre
REFRESH-INTERVAL;VALUE=DURATION:PT1H
X-Robots-Tag:noindex
X-PUBLISHED-TTL:PT1H
BEGIN:VTIMEZONE
TZID:UTC
BEGIN:STANDARD
TZOFFSETFROM:+0000
TZOFFSETTO:+0000
TZNAME:UTC
DTSTART:20240101T000000
END:STANDARD
END:VTIMEZONE
BEGIN:VEVENT
DTSTART;TZID=UTC:20251011T173000
DTEND;TZID=UTC:20251011T210000
DTSTAMP:20260421T171923
CREATED:20251007T193538Z
LAST-MODIFIED:20251007T193539Z
UID:6228-1760203800-1760216400@vallicanwhole.com
SUMMARY:Thanksgiving Locavore's Feast
DESCRIPTION:It’s time again for a Locavore’s Feast\, a decades-old Vallican Whole tradition! \n\n\n\nCome join us for a Thanksgiving potluck dinner\, Saturday\, October 11th at the Whole.Entry is a generous potluck dish\, made with as-local-as-you-can ingredients\, enough to feed your party. Donations to RARTS will also be gratefully accepted. \n\n\n\nDoors open at 5:30\, dinner starts at 6pm. Six Slocan Minutes\, the anything-goes open mic\, starts about 7pm\, so bring a song\, a poem\, a skill or a screed to share. \n\n\n\nVolunteers for this and other upcoming RARTS events are VERY WELCOME! Email us at info (at) vallicanwhole (dot) com to offer some help.
URL:https://vallicanwhole.com/event/thanksgiving-locavores-feast-2/
LOCATION:Bc
END:VEVENT
END:VCALENDAR