BEGIN:VCALENDAR
VERSION:2.0
PRODID:-//The Vallican Whole Community Centre - ECPv6.15.20//NONSGML v1.0//EN
CALSCALE:GREGORIAN
METHOD:PUBLISH
X-ORIGINAL-URL:https://vallicanwhole.com
X-WR-CALDESC:Events for The Vallican Whole Community Centre
REFRESH-INTERVAL;VALUE=DURATION:PT1H
X-Robots-Tag:noindex
X-PUBLISHED-TTL:PT1H
BEGIN:VTIMEZONE
TZID:UTC
BEGIN:STANDARD
TZOFFSETFROM:+0000
TZOFFSETTO:+0000
TZNAME:UTC
DTSTART:20240101T000000
END:STANDARD
END:VTIMEZONE
BEGIN:VEVENT
DTSTART;TZID=UTC:20250419T193000
DTEND;TZID=UTC:20250419T210000
DTSTAMP:20260421T141241
CREATED:20250414T203757Z
LAST-MODIFIED:20250414T203758Z
UID:6146-1745091000-1745096400@vallicanwhole.com
SUMMARY:Fire Stories
DESCRIPTION:Fire Stories is a benefit\, to support the newly forming Slocan Valley Watershed and Forest Protection Society. \n\n\n\nResidents will share stories from the experience of living through the 2024 wildfires in the Slocan Valley\, with piano accompaniment (original compositions)
URL:https://vallicanwhole.com/event/fire-stories/
LOCATION:Vallican Whole\, 3762 Little Slocan South Rd.\, Winlaw\, Bc\, V0G 0B2\, Canada
END:VEVENT
END:VCALENDAR