BEGIN:VCALENDAR
VERSION:2.0
PRODID:-//The Vallican Whole Community Centre - ECPv6.15.20//NONSGML v1.0//EN
CALSCALE:GREGORIAN
METHOD:PUBLISH
X-ORIGINAL-URL:https://vallicanwhole.com
X-WR-CALDESC:Events for The Vallican Whole Community Centre
REFRESH-INTERVAL;VALUE=DURATION:PT1H
X-Robots-Tag:noindex
X-PUBLISHED-TTL:PT1H
BEGIN:VTIMEZONE
TZID:UTC
BEGIN:STANDARD
TZOFFSETFROM:+0000
TZOFFSETTO:+0000
TZNAME:UTC
DTSTART:20240101T000000
END:STANDARD
END:VTIMEZONE
BEGIN:VEVENT
DTSTART;TZID=UTC:20250410T190000
DTEND;TZID=UTC:20250410T213000
DTSTAMP:20260421T142058
CREATED:20250310T183249Z
LAST-MODIFIED:20250310T183251Z
UID:6119-1744311600-1744320600@vallicanwhole.com
SUMMARY:Oh Pray Tell - An Up Close & Intimate Show
DESCRIPTION:Oh Pray Tell is Sally Titasey\, Betty Supple and Shayna Jones. Stomp\, clap\, banjo\, harmonies\, experimental folklore\, this is much more than a musical performance.  This trio of soulful musician-storytellers bring magic to the stage\, and promise a gorgeous and inspiring night of music and fable. \n\n\n\nAs usual\, there will be cake\, pizza and drinks for sale at the show. \n\n\n\nTickets at the door or in advance from Rambling Rose.
URL:https://vallicanwhole.com/event/oh-pray-tell-an-up-close-intimate-show/
LOCATION:Bc
ORGANIZER;CN="The Vallican Whole":MAILTO:info@vallicanwhole.com
END:VEVENT
END:VCALENDAR