BEGIN:VCALENDAR
VERSION:2.0
PRODID:-//The Vallican Whole Community Centre - ECPv6.15.20//NONSGML v1.0//EN
CALSCALE:GREGORIAN
METHOD:PUBLISH
X-WR-CALNAME:The Vallican Whole Community Centre
X-ORIGINAL-URL:https://vallicanwhole.com
X-WR-CALDESC:Events for The Vallican Whole Community Centre
REFRESH-INTERVAL;VALUE=DURATION:PT1H
X-Robots-Tag:noindex
X-PUBLISHED-TTL:PT1H
BEGIN:VTIMEZONE
TZID:UTC
BEGIN:STANDARD
TZOFFSETFROM:+0000
TZOFFSETTO:+0000
TZNAME:UTC
DTSTART:20230101T000000
END:STANDARD
END:VTIMEZONE
BEGIN:VEVENT
DTSTART;TZID=UTC:20240731T190000
DTEND;TZID=UTC:20240731T210000
DTSTAMP:20260422T035253
CREATED:20240618T211237Z
LAST-MODIFIED:20240731T175301Z
UID:6005-1722452400-1722459600@vallicanwhole.com
SUMMARY:Clanna Morna
DESCRIPTION:UPDATE\, JULY 30th:  Due to travel issues from local wildfires\, Clanna Morna has had to cancel their show at the Vallican Whole tonight.  We are hosting a free community dinner instead\, so all are welcome to join us for that! \n\n\n\nSorry for the disappointment! \n\n\n\nHailing from the occupied territories of the Songhees\, Esquimalt and WSÁNEĆ nations (Victoria\, BC in Canada)\, Clanna Morna brings their take on the Celtic Traditional genre to the west coast. Their sound is rooted in the traditional Irish\, Scottish and English music that many love\, and features carefully crafted arrangements\, rhythmic spirited energy and captivating storytelling. Comprised of an ensemble of multi-instrumentalists\, their collective musicianship and attention to detail contribute to a unique audience experience featuring both familiar and lesser known folk ballads and tunes.
URL:https://vallicanwhole.com/event/clanna-morna/
LOCATION:Vallican Whole\, 3762 Little Slocan South Rd.\, Winlaw\, Bc\, V0G 0B2\, Canada
ORGANIZER;CN="The Vallican Whole":MAILTO:info@vallicanwhole.com
END:VEVENT
END:VCALENDAR