BEGIN:VCALENDAR
VERSION:2.0
PRODID:-//The Vallican Whole Community Centre - ECPv6.15.20//NONSGML v1.0//EN
CALSCALE:GREGORIAN
METHOD:PUBLISH
X-ORIGINAL-URL:https://vallicanwhole.com
X-WR-CALDESC:Events for The Vallican Whole Community Centre
REFRESH-INTERVAL;VALUE=DURATION:PT1H
X-Robots-Tag:noindex
X-PUBLISHED-TTL:PT1H
BEGIN:VTIMEZONE
TZID:UTC
BEGIN:STANDARD
TZOFFSETFROM:+0000
TZOFFSETTO:+0000
TZNAME:UTC
DTSTART:20230101T000000
END:STANDARD
END:VTIMEZONE
BEGIN:VEVENT
DTSTART;TZID=UTC:20240720T083000
DTEND;TZID=UTC:20240720T120000
DTSTAMP:20260422T052702
CREATED:20240716T204216Z
LAST-MODIFIED:20240716T204823Z
UID:6022-1721464200-1721476800@vallicanwhole.com
SUMMARY:Community FireSmart Day
DESCRIPTION:The Vallican Whole is a recognized FireSmart Neighbourhood\, thanks to years of hard work by volunteers to mitigate wildfire risk on and around the Whole grounds. \n\n\n\nOn Saturday July 20th\, we’re welcoming the community back to the Whole for a work and learning day. Participants can meet with RDCK Wildfire Mitigation Specialist Bree Lillies to learn about FireSmart strategies and opportunities. The Passmore Fire Department will also be on site with their hose and firetruck\, sharing about the work they do in our community. \n\n\n\nRARTS volunteers will be doing some FireSmart work around the buildings & grounds\, and invite you to put on your work gloves and help out!Coffee and refreshments served starting at 8:30 am. Work will be happening till about noon. All are welcome!
URL:https://vallicanwhole.com/event/community-firesmart-day/
LOCATION:Bc
ORGANIZER;CN="Vallican Whole Community":MAILTO:info@vallicanwhole.com
END:VEVENT
END:VCALENDAR