BEGIN:VCALENDAR
VERSION:2.0
PRODID:-//The Vallican Whole Community Centre - ECPv6.15.20//NONSGML v1.0//EN
CALSCALE:GREGORIAN
METHOD:PUBLISH
X-ORIGINAL-URL:https://vallicanwhole.com
X-WR-CALDESC:Events for The Vallican Whole Community Centre
REFRESH-INTERVAL;VALUE=DURATION:PT1H
X-Robots-Tag:noindex
X-PUBLISHED-TTL:PT1H
BEGIN:VTIMEZONE
TZID:UTC
BEGIN:STANDARD
TZOFFSETFROM:+0000
TZOFFSETTO:+0000
TZNAME:UTC
DTSTART:20230101T000000
END:STANDARD
END:VTIMEZONE
BEGIN:VEVENT
DTSTART;TZID=UTC:20240713T190000
DTEND;TZID=UTC:20240713T210000
DTSTAMP:20260422T053214
CREATED:20240618T210721Z
LAST-MODIFIED:20240619T184634Z
UID:6002-1720897200-1720904400@vallicanwhole.com
SUMMARY:Gabriel Palatchi Trio Concert
DESCRIPTION:Embark on a captivating musical journey with Gabriel Palatchi\, an accomplished pianist and composer from Buenos Aires\, boasting a remarkable 15-year career. With his unique blend of Latin jazz\, funk\, tango\, and Middle Eastern influences\, Gabriel has mesmerized audiences around the globe with his exhilarating performances. Recognized as a rising star by Billboard Magazine\, Gabriel has earned international acclaim\, including a Gold Medal from the Global Music Awards for his album “Trivolution”. Don’t miss your chance to experience the magic of Gabriel Palatchi live\, as he brings his world-class talent to the Vallican Whole! Get ready to groove and move—it’s not just a concert\, it’s a potential dance party extravaganza! \n\n\n\nGabriel Palatchi – piano & synthsTony Ferraro – drumsMarc Decho – bass
URL:https://vallicanwhole.com/event/gabriel-palatchi-trio-concert/
LOCATION:Vallican Whole\, 3762 Little Slocan South Rd.\, Winlaw\, Bc\, V0G 0B2\, Canada
ORGANIZER;CN="Vallican Whole Community":MAILTO:info@vallicanwhole.com
END:VEVENT
END:VCALENDAR