BEGIN:VCALENDAR
VERSION:2.0
PRODID:-//The Vallican Whole Community Centre - ECPv6.15.20//NONSGML v1.0//EN
CALSCALE:GREGORIAN
METHOD:PUBLISH
X-ORIGINAL-URL:https://vallicanwhole.com
X-WR-CALDESC:Events for The Vallican Whole Community Centre
REFRESH-INTERVAL;VALUE=DURATION:PT1H
X-Robots-Tag:noindex
X-PUBLISHED-TTL:PT1H
BEGIN:VTIMEZONE
TZID:UTC
BEGIN:STANDARD
TZOFFSETFROM:+0000
TZOFFSETTO:+0000
TZNAME:UTC
DTSTART:20230101T000000
END:STANDARD
END:VTIMEZONE
BEGIN:VEVENT
DTSTART;TZID=UTC:20240309T110000
DTEND;TZID=UTC:20240309T163000
DTSTAMP:20260419T144230
CREATED:20240206T002609Z
LAST-MODIFIED:20240206T002610Z
UID:5962-1709982000-1710001800@vallicanwhole.com
SUMMARY:Valley Gems Theatre Day!
DESCRIPTION:Valley Gems Theatre presents a day of community theatre fun!  Morning workshops for actors and kids\, followed by a potluck lunch and an afternoon of Improv and theatre games.  All will be facilitated by local theatre artists.Register at slocanvalleygems@gmail.com.
URL:https://vallicanwhole.com/event/valley-gems-theatre-day/
LOCATION:Vallican Whole\, 3762 Little Slocan South Rd.\, Winlaw\, Bc\, V0G 0B2\, Canada
ORGANIZER;CN="Valley Gems Theatre":MAILTO:slocanvalleygems@gmail.com
END:VEVENT
END:VCALENDAR